BEGIN:VCALENDAR
VERSION:2.0
PRODID:-//wp-events-plugin.com//7.2.3.1//EN
TZID:Europe/Paris
X-WR-TIMEZONE:Europe/Paris
BEGIN:VEVENT
UID:133@theagilehub.io
DTSTART;TZID=Europe/Berlin:20251007T165500
DTEND;TZID=Europe/Berlin:20251007T180000
DTSTAMP:20250929T133653Z
URL:https://theagilehub.io/events/wissen-statt-buzzwords-ki-kompetenz-in-o
 rganisationen-2/
SUMMARY:Wissen statt Buzzwords — KI-Kompetenz in Organisationen
DESCRIPTION:\nNLP\, CV\, RAG\, MCP\, MLOps\, RLHF\, SFT\, LoRA\, PEFT\, FT\
 , GPU …\nNein\, das ist keine neue 2025er-Version von MFG der Fantastisc
 hen Vier. Auch wenn die Liste an Fachbegriffen locker für einen eigenen S
 ongtext reichen würde\, zeigt sie vor allem eins: Die Welt der KI ist vol
 l von Abkürzungen und Konzepten\, die man verstehen muss\, um mitreden un
 d mitgestalten zu können.\nDie Vielzahl an Fachbegriffen verrät: KI-Eins
 atz braucht Wissen — auf individueller Ebene und innerhalb der Organisat
 ion.\nWeil sich die Technologie rasant weiterentwickelt\, muss auch das Kn
 ow-how kontinuierlich mitwachsen.\nIn unserem kommenden Meetup beschäftig
 en wir uns mit genau diesem Thema: Wie verankern wir Wissensaufbau und Wis
 senstransfer so in Organisationen\, dass KI-Projekte nachhaltig gelingen? 
 Wir betrachten praktische Fragen wie:\n\n\n 	Welche Rolle spielt Wissensma
 nagement heute in Unternehmen?\n 	Was sind die langfristigen Risiken\, wen
 n Wissen vernachlässigt wird?\n 	Welche Ansätze und Möglichkeiten gibt 
 es\, um Wissen aufzubauen und weiterzugeben?\n\nBringt eure Erfahrungen\, 
 Beispiele und Ideen mit — zum Austausch\, Lernen und Vernetzen. Wir freu
 en uns auf einen praktischen\, konstruktiven Abend mit euch!\nMeetup Infor
 mationen\nDie URL des Videotools für die Teilnahme erhaltet ihr rechtzeit
 ig im Vorfeld.\nWir starten um 16:55 mit einem kurzem Warm-up.\nPünktlich
  um 17:00 geht es dann mit dem Programm des Abends los.\nWir freuen uns au
 f euch!\nEuer Agile Usergroup Team\nPS: Im Nachgang gibt es eine kurze Zus
 ammenfassung für alle Teilnehmer. Ihr müsst euch dazu auf https://commun
 ity.theagilehub.io/ registrieren und könnt danach auf alle Dokumente und 
 Aufzeichnungen zugreifen.\nKey Facts zu den Meetups: \nDas Agile Usergrou
 p Team der MAYFLOWER GmbH veranstaltet alle zwei Wochen am Dienstag ein Me
 etup zu agilen Themen und Fragestellungen.\nSo könnt ihr eure agilen Fäh
 igkeiten verbessern\, echte Probleme lösen und euch mit den richtigen Per
 sonen austauschen.\nWenn du magst\, kannst du beim Erwerb deines Tickets d
 ie Spendenkategorie auswählen. Diese werden in diesem Quartal an: Ärzte 
 ohne Grenzen - Flüchtlingshilfe: https://www.aerzte-ohne-grenzen.de/unser
 e-arbeit/aktuelles/spenden-fluechtlinge gespendet.\nProgramm\n16:55    A
 nkommen und Technik-Check\n17:00    Begrüßung (offizieller Start)\n17:
 10    KI-Kompetenz in Organisationen aufbauen und verankern\n17:50    
 Eure Highlights\n18:00    Verabschiedung - bis zum nächsten Mal\n\n\n\n\
 n\n\n   \n        \n                JavaScript ist in Ihrem Browser deakti
 viert. Um unseren Ticketshop ohne JavaScript aufzurufen\, klicken Sie bitt
 e hier.\n                \n    \n
CATEGORIES:AgileUFRA Meetup
END:VEVENT
BEGIN:VTIMEZONE
TZID:Europe/Berlin
X-LIC-LOCATION:Europe/Berlin
BEGIN:DAYLIGHT
DTSTART:20250330T030000
TZOFFSETFROM:+0100
TZOFFSETTO:+0200
TZNAME:CEST
END:DAYLIGHT
END:VTIMEZONE
END:VCALENDAR