BEGIN:VCALENDAR
VERSION:2.0
PRODID:-//wp-events-plugin.com//7.2.3.1//EN
TZID:Europe/Paris
X-WR-TIMEZONE:Europe/Paris
BEGIN:VEVENT
UID:144@theagilehub.io
DTSTART;TZID=Europe/Berlin:20260519T165500
DTEND;TZID=Europe/Berlin:20260519T180000
DTSTAMP:20260421T083719Z
URL:https://theagilehub.io/events/vibe-coding-verbieten-heisst-schatten-it
 -genehmigen/
SUMMARY:Vibe Coding verbieten heißt Schatten-IT genehmigen
DESCRIPTION:Vibe Coding: weder blind erlauben noch verbieten. Wir zeigen ei
 nen dritten Weg mit Leitplanken\, der KI-Produktivität\, Qualität und Se
 curity vereint – und Shadow-IT überflüssig macht.
ATTACH;FMTTYPE=image/jpeg:https://theagilehub.io/wp-content/uploads/2026/0
 4/vibe_coding-scaled.jpg
CATEGORIES:AgileUFRA Meetup
END:VEVENT
BEGIN:VTIMEZONE
TZID:Europe/Berlin
X-LIC-LOCATION:Europe/Berlin
BEGIN:DAYLIGHT
DTSTART:20260329T030000
TZOFFSETFROM:+0100
TZOFFSETTO:+0200
TZNAME:CEST
END:DAYLIGHT
END:VTIMEZONE
END:VCALENDAR