BEGIN:VCALENDAR
VERSION:2.0
PRODID:-//wp-events-plugin.com//7.2.3.1//EN
TZID:Europe/Paris
X-WR-TIMEZONE:Europe/Paris
BEGIN:VEVENT
UID:131@theagilehub.io
DTSTART;TZID=Europe/Berlin:20250909T165500
DTEND;TZID=Europe/Berlin:20250909T180000
DTSTAMP:20250806T121257Z
URL:https://theagilehub.io/events/smarte-produktentwicklung-ki-als-support
 -fur-agile-teams/
SUMMARY:Smarte Produktentwicklung – KI als Support für agile Teams
DESCRIPTION:\nIst Scrum in seiner klassischen Form noch zeitgemäß – ode
 r haben die Regeln\, die Scrum einst zum Quasi-Standard für nutzerzentrie
 rte Softwareentwicklung gemacht haben\, im Zeitalter von Künstlicher Inte
 lligenz an Relevanz verloren? Müssen wir umgekehrt nicht gerade jetzt agi
 les Arbeiten und die bewährten Scrum-Rituale stärken\, weil KI-gestützt
 e Analyse- und Anpassungsmöglichkeiten unseren Innovationszyklus weiter b
 eschleunigen?\nMit eben diesen Fragen im Gepäck laden wir euch zu unserem
  Meetup “Smarte Produktentwicklung – KI als Support für agile Teams
 ” ein. Gemeinsam untersuchen wir\, wie sich eure Produktentwicklungsproz
 esse durch KI verändert haben:\n\n\n 	An welchen Stellen im Sprint ist KI
  bereits unverzichtbar?\n 	Wo hattet ihr negative Erfahrungen\, die ihr an
 deren Teams gern ersparen möchtet?\n\nWir zerlegen einen typischen Scrum-
 Sprint in seine Elemente – von der Product-Backlog-Pflege über Sprint-P
 lanung\, Daily Standup und Review-Meetings bis hin zur Retrospektive. Für
  jedes Ritual und Artefakt analysieren wir\, wo und wie KI-Support echten 
 Mehrwert liefert und wo weiterhin Skepsis angebracht ist.\nDarüber hinaus
  hinterfragen wir einige Grundannahmen agiler Arbeitsweisen\, beispielswei
 se:\n\n\n 	Dokumentation on-the-fly: Könnte KI automatisch Specs\, Kommen
 tare und Glossare direkt aus Code und Konversation erstellen?\n 	Smartes S
 elf-Organizing: Würden KI-Assistenten unser Team coachen\, Tasks priorisi
 eren und Prozessoptimierungen vorschlagen?\n 	Automatisierte Kommunikation
 : Könnten Echtzeit-Sprachanalysen und Bots Daily-Scrums zusammenfassen un
 d Unklarheiten klären?\n 	Predictive Build-Measure-Learn: Würden KI-Mode
 lle Risiken vorhersagen und A/B-Tests automatisieren?\n 	Adaptive Time-box
 es: Könnten Algorithmen Sprint-Längen dynamisch anpassen und bei Überla
 st warnen?\n 	Virtuelle Cross-functional-Experten: Könnten on-demand KI-S
 pezialisten Security-\, UX- oder Design-Reviews liefern und Prototypen gen
 erieren?\n 	Und wir prüfen\, ob diese Prämissen in einer Welt mit KI-Unt
 erstützung noch uneingeschränkt gelten.\n\nWir freuen uns auf eure Praxi
 sberichte\, Ideen und Impulse.\n\nMeetup Informationen\nDie URL des Videot
 ools für die Teilnahme erhaltet ihr rechtzeitig im Vorfeld.\nWir starten 
 um 16:55 mit einem kurzem Warm-up.\nPünktlich um 17:00 geht es dann mit d
 em Programm des Abends los.\nEuer Agile Usergroup Team\nPS: Im Nachgang gi
 bt es eine kurze Zusammenfassung für alle Teilnehmer. Ihr müsst euch daz
 u auf https://community.theagilehub.io/ registrieren und könnt danach auf
  alle Dokumente und Aufzeichnungen zugreifen.\n\nKey Facts zu den Meetups:
 \nDas Agile Usergroup Team der MAYFLOWER GmbH veranstaltet alle zwei Woche
 n am Dienstag ein Meetup zu agilen Themen und Fragestellungen.\nSo könnt 
 ihr eure agilen Fähigkeiten verbessern\, echte Probleme lösen und euch m
 it den richtigen Personen austauschen.\nWenn du magst\, kannst du beim Erw
 erb deines Tickets die Spendenkategorie auswählen. Diese werden in diesem
  Quartal an: Ärzte ohne Grenzen - Flüchtlingshilfe: https://www.aerzte-o
 hne-grenzen.de/unsere-arbeit/aktuelles/spenden-fluechtlinge gespendet.\n\n
 Programm\n16:55 – Ankommen &amp\; Technik-Check\n17:00 – Begrüßung &
 amp\; Einstieg ins Thema\n17:10 – Interaktiver Workshop: KI im Scrum-Spr
 int &amp\; Realitätscheck: Grundannahmen agiler Arbeitsweisen\n17:55 – 
 Eure Highlights – Was nehmt ihr mit?\n18:00 – Wrap-up &amp\; Ausblick 
 – Wir sagen Danke fürs Mitmachen – und freuen uns auf ein Wiedersehen
 !\n\n\n\n\n\n\n   \n        \n            JavaScript ist in Ihrem Browser 
 deaktiviert. Um unseren Ticketshop ohne JavaScript aufzurufen\, klicken Si
 e bitte hier.\n        \n    \n
CATEGORIES:AgileUFRA Meetup
END:VEVENT
BEGIN:VTIMEZONE
TZID:Europe/Berlin
X-LIC-LOCATION:Europe/Berlin
BEGIN:DAYLIGHT
DTSTART:20250330T030000
TZOFFSETFROM:+0100
TZOFFSETTO:+0200
TZNAME:CEST
END:DAYLIGHT
END:VTIMEZONE
END:VCALENDAR