BEGIN:VCALENDAR
VERSION:2.0
PRODID:-//wp-events-plugin.com//7.2.3.1//EN
TZID:Europe/Paris
X-WR-TIMEZONE:Europe/Paris
BEGIN:VEVENT
UID:137@theagilehub.io
DTSTART;TZID=Europe/Berlin:20251118T165500
DTEND;TZID=Europe/Berlin:20251118T180000
DTSTAMP:20251105T132318Z
URL:https://theagilehub.io/events/skalieren-statt-stoppen-ki-piloten-in-pr
 oduktion-fuhren/
SUMMARY:Skalieren statt Stoppen — KI-Piloten in Produktion führen
DESCRIPTION:Dein KI-Pilot steckt fest im PoC? Wir zeigen\, wie du mit klare
 n Entscheidungen\, agilen Methoden und einem praxisnahen Miro-Template dei
 n KI-Projekt erfolgreich in Produktion bringst.
ATTACH;FMTTYPE=image/jpeg:https://theagilehub.io/wp-content/uploads/2025/1
 1/ChatGPT-Image-4.-Nov.-2025-11_43_58-1200x800-1.png
CATEGORIES:AgileUFRA Meetup
END:VEVENT
BEGIN:VTIMEZONE
TZID:Europe/Berlin
X-LIC-LOCATION:Europe/Berlin
BEGIN:STANDARD
DTSTART:20251026T020000
TZOFFSETFROM:+0200
TZOFFSETTO:+0100
TZNAME:CET
END:STANDARD
END:VTIMEZONE
END:VCALENDAR