BEGIN:VCALENDAR
VERSION:2.0
PRODID:-//wp-events-plugin.com//7.2.3.1//EN
TZID:Europe/Paris
X-WR-TIMEZONE:Europe/Paris
BEGIN:VEVENT
UID:6@theagilehub.io
DTSTART;TZID=Europe/Berlin:20220830T174500
DTEND;TZID=Europe/Berlin:20220830T200000
DTSTAMP:20221201T142858Z
URL:https://theagilehub.io/events/meetup-50-shades-of-retrospectives-chris
 -stone/
SUMMARY:Meetup "50 shades of retrospectives - how to continuously improve r
 etrospectives by Chris Stone"
DESCRIPTION:\nDocumentation:\nPlease register at our new community homebase
  first: community.theagilehub.io \n\nDocu: https://community.theagilehub.
 io/t/2022-08-30-50-shades-of-retrospectives-dokumentation/176\nThe Meetup\
 nChris Stone will give us insight on how to continuously improve retrospec
 tives in the "50 shades of retrospectives" meetup.\n\nOr to put it in his 
 own words:\n\n"An interactive exploration of Chris Stones top tips\, strat
 egums\, flim flams\, agile hacks and otherwise for enabling continuous imp
 rovement.\nChoose your own adventure and influence which direction the ses
 sion goes in.\nThis session could be delivered 50 times and each time woul
 d be different."\n\nYou'll learn about everything from setting the environ
 ment for continuous improve\, to how to turn insights into action.\nEssent
 ially\, you choose where you want to focus - Foundations\, Facilitation\, 
 Formats or Finishing up\, we use the time available to explore ideas\, ins
 ights and recommendations on how to continuously improve.\n\nWho is Chris 
 Stone? Chris Stone is a well-known agile coach from England. He has made a
  name for himself with blogposts\, podcasts and videos on agile topics.\nI
 f you would like to learn more about Chris\, take a look at his homepage:
  https://www.thevirtualagilecoach.co.uk/\n\nWhat exactly do we intend to 
 do with you?\n\nAt 5:50 pm we open the session for you and have 10 minutes
  for a tech check and warm-up.\nThe official start is at 6:00 pm\, which i
 s when the program for the evening begins.\nWe start with a short welcome\
 , where we introduce you to the agenda of the evening.\nAfter a little war
 m-up\, where you can get to know each other a bit better\, we will start t
 he Meetup right away.\n\nCome and join us.\nWe look forward to seeing you!
 \n\nYour agile user group team\n\nIMPORTANT:\n\nWe have a new form of regi
 stration exclusively via ticket. We've introduced an additional fee-based 
 ticket category "Give a pledge" as a fundraiser. The donations from these 
 ticket sales are collected there on a quarterly basis and the accumulated 
 sum (minus ticket commission to Xing events) will be donated to a charitab
 le purpose. We would be very happy if as many as possible would buy such a
  ticket :-) Of course you can still choose the all free category.\n\nIn th
 e third quarter we donate the revenue to: "World Vision Deutschland e.V. -
 Help for children and families from Ukraine" (https://www.worldvision.de/s
 penden/katastrophenhilfe/ukraine)\n\nOrganizational information:\nYou will
  receive the URL of the video tool for participation in good time in advan
 ce.\nThe meetup will be moderated and accompanied by Mayflower.\n\nWe look
  forward to the Meetup and the exchange with you!\nAfterwards there is aga
 in a short summary for all participants.\n\nPS: Do you already know our q
 uarterly and annual books of the agile user group? You can order the curre
 nt quarterly book with all Meetup documentation\, other technical articles
  and one-page summaries of the Meetups here free of charge as a PDF downlo
 ad: https://mailchi.mp/mayflower/agile-handbuch\nYou also get access to a
 ll previous PDF books.\n\nProgram:\n\n\n\n17:50   Arrive and technical c
 heck\n18:00   Welcome (official start)\n18:15   Interactive speech and
  discussion "50 shades of retrospectives" with Chris Stone\n20:00   Good
 bye and see you next time\n\n\n
CATEGORIES:AgileUFRA Meetup
END:VEVENT
BEGIN:VTIMEZONE
TZID:Europe/Berlin
X-LIC-LOCATION:Europe/Berlin
BEGIN:DAYLIGHT
DTSTART:20220327T030000
TZOFFSETFROM:+0100
TZOFFSETTO:+0200
TZNAME:CEST
END:DAYLIGHT
END:VTIMEZONE
END:VCALENDAR