BEGIN:VCALENDAR
VERSION:2.0
PRODID:-//wp-events-plugin.com//7.2.3.1//EN
TZID:Europe/Paris
X-WR-TIMEZONE:Europe/Paris
BEGIN:VEVENT
UID:134@theagilehub.io
DTSTART;TZID=Europe/Berlin:20251021T165500
DTEND;TZID=Europe/Berlin:20251021T180000
DTSTAMP:20251008T113652Z
URL:https://theagilehub.io/events/ki-potenzial-versus-realitat-hindernisse
 -beim-ki-einsatz/
SUMMARY:KI-Potenzial versus Realität: Hindernisse beim KI-Einsatz
DESCRIPTION:KI verändert unsere Arbeit — das ist keine Zukunftsvision me
 hr\, sondern Alltag. Trotzdem bleibt in vielen deutschen Organisationen da
 s volle Potenzial ungenutzt.\n\nIn unserem Meetup gehen wir der Frage nach
 : Warum starten viele KI-Projekte nicht richtig durch — obwohl die Techn
 ik längst da ist?\n\nWir beleuchten praxisnah die wichtigsten Bremsen:\n\
 n 	Datenqualität &amp\; Datensilos — ohne verlässliche Daten keine zuv
 erlässigen Modelle.\n 	Fachkräftemangel &amp\; fehlendes Know-how — Sk
 ills fehlen häufig dort\, wo sie gebraucht werden.\n 	Rechtliche &amp\; D
 atenschutz-Bedenken (z. B. DSGVO) — Unsicherheit verhindert Entscheidung
 en.\n 	Veraltete organisatorische Strukturen — starre Hierarchien und la
 nge Entscheidungswege blockieren Experimente.\n 	Altsysteme &amp\; Integra
 tionsprobleme — Legacy-IT stoppt schnelle Deployments.\n\nWas dich erwar
 tet: ein kompakter\, praxisorientierter Impuls und anschließender offener
  Erfahrungsaustausch — echte Beispiele\, konkrete Stolpersteine und prag
 matische Ansätze\, wie man sie angehen kann.\n\nIdeal für alle\, die KI 
 im Unternehmen voranbringen wollen.\n\nNeugierig geworden? Komm vorbei\, b
 ring deine Fragen und Erfahrungen mit — gemeinsam finden wir Wege\, aus 
 Potenzial Wirklichkeit zu machen.\n\nMeetup Informationen\n\nDie URL des V
 ideotools für die Teilnahme erhaltet ihr rechtzeitig im Vorfeld.\n\nWir s
 tarten um 16:55 mit einem kurzem Warm-up.\nPünktlich um 17:00 geht es dan
 n mit dem Programm des Abends los.\n\nWir freuen uns auf euch!\nEuer Agile
  Usergroup Team\n\nPS: Im Nachgang gibt es eine kurze Zusammenfassung für
  alle Teilnehmer. Ihr müsst euch dazu auf https://community.theagilehub.i
 o/ registrieren und könnt danach auf alle Dokumente und Aufzeichnungen zu
 greifen.\n\nKey Facts zu den Meetups:\n\nDas Agile Usergroup Team der MAYF
 LOWER GmbH veranstaltet alle zwei Wochen am Dienstag ein Meetup zu agilen 
 Themen und Fragestellungen. So könnt ihr eure agilen Fähigkeiten verbess
 ern\, echte Probleme lösen und euch mit den richtigen Personen austausche
 n.\n\nWenn du magst\, kannst du beim Erwerb deines Tickets die Spendenkate
 gorie auswählen. Diese werden in diesem Quartal an: Ärzte ohne Grenzen -
  Flüchtlingshilfe gespendet.\n\nProgramm\n\n16:55  Ankommen und Technik-C
 heck\n17:00  Begrüßung (offizieller Start)\n17:10  Impuls "KI-Potenzial 
 versus Realität: Hindernisse beim KI-Einsatz"\n17:40  Erfahrungsaustausch
  - Q &amp\; A\n18:00  Verabschiedung\n\n\n\n\n\n\n   \n        \n         
    JavaScript ist in Ihrem Browser deaktiviert. Um unseren Ticketshop ohne
  JavaScript aufzurufen\, klicken Sie bitte hier.\n        \n    \n
ATTACH;FMTTYPE=image/jpeg:https://theagilehub.io/wp-content/uploads/2025/1
 0/KI-Potenzial-vs.-Realitat-e1759921725665.png
CATEGORIES:AgileUFRA Meetup
END:VEVENT
BEGIN:VTIMEZONE
TZID:Europe/Berlin
X-LIC-LOCATION:Europe/Berlin
BEGIN:DAYLIGHT
DTSTART:20250330T030000
TZOFFSETFROM:+0100
TZOFFSETTO:+0200
TZNAME:CEST
END:DAYLIGHT
END:VTIMEZONE
END:VCALENDAR